BEGIN:VCALENDAR
VERSION:2.0
PRODID:-//AR Connect Education Ltd - ECPv6.3.3.1//NONSGML v1.0//EN
CALSCALE:GREGORIAN
METHOD:PUBLISH
X-ORIGINAL-URL:https://arconnecteducation.co.uk
X-WR-CALDESC:Events for AR Connect Education Ltd
REFRESH-INTERVAL;VALUE=DURATION:PT1H
X-Robots-Tag:noindex
X-PUBLISHED-TTL:PT1H
BEGIN:VTIMEZONE
TZID:UTC
BEGIN:STANDARD
TZOFFSETFROM:+0000
TZOFFSETTO:+0000
TZNAME:UTC
DTSTART:20240101T000000
END:STANDARD
END:VTIMEZONE
BEGIN:VEVENT
DTSTART;TZID=UTC:20241129T100000
DTEND;TZID=UTC:20241129T130000
DTSTAMP:20260423T062625
CREATED:20240904T093719Z
LAST-MODIFIED:20241002T092839Z
UID:10000188-1732874400-1732885200@arconnecteducation.co.uk
SUMMARY:10:00am
DESCRIPTION:
URL:https://arconnecteducation.co.uk/event/1000am-92/
LOCATION:AR Connect Education Assessment Centre\, 37 Canal St\, Stockport\, England\, SK1 3BZ\, United Kingdom
END:VEVENT
BEGIN:VEVENT
DTSTART;TZID=UTC:20241129T133000
DTEND;TZID=UTC:20241129T163000
DTSTAMP:20260423T062625
CREATED:20240904T111300Z
LAST-MODIFIED:20241002T092911Z
UID:10000226-1732887000-1732897800@arconnecteducation.co.uk
SUMMARY:1:30pm
DESCRIPTION:
URL:https://arconnecteducation.co.uk/event/130pm-98/
LOCATION:AR Connect Education Assessment Centre\, 37 Canal St\, Stockport\, England\, SK1 3BZ\, United Kingdom
END:VEVENT
END:VCALENDAR