BEGIN:VCALENDAR
VERSION:2.0
PRODID:-//AR Connect Education Ltd - ECPv6.3.3.1//NONSGML v1.0//EN
CALSCALE:GREGORIAN
METHOD:PUBLISH
X-WR-CALNAME:AR Connect Education Ltd
X-ORIGINAL-URL:https://arconnecteducation.co.uk
X-WR-CALDESC:Events for AR Connect Education Ltd
REFRESH-INTERVAL;VALUE=DURATION:PT1H
X-Robots-Tag:noindex
X-PUBLISHED-TTL:PT1H
BEGIN:VTIMEZONE
TZID:UTC
BEGIN:STANDARD
TZOFFSETFROM:+0000
TZOFFSETTO:+0000
TZNAME:UTC
DTSTART:20240101T000000
END:STANDARD
END:VTIMEZONE
BEGIN:VEVENT
DTSTART;TZID=UTC:20241104T133000
DTEND;TZID=UTC:20241104T163000
DTSTAMP:20260423T063250
CREATED:20240904T105532Z
LAST-MODIFIED:20241002T082649Z
UID:10000207-1730727000-1730737800@arconnecteducation.co.uk
SUMMARY:1:30pm
DESCRIPTION:
URL:https://arconnecteducation.co.uk/event/130pm-79/
LOCATION:AR Connect Education Assessment Centre\, 37 Canal St\, Stockport\, England\, SK1 3BZ\, United Kingdom
END:VEVENT
BEGIN:VEVENT
DTSTART;TZID=UTC:20241105T133000
DTEND;TZID=UTC:20241105T163000
DTSTAMP:20260423T063250
CREATED:20240904T105620Z
LAST-MODIFIED:20241002T082753Z
UID:10000208-1730813400-1730824200@arconnecteducation.co.uk
SUMMARY:1:30pm
DESCRIPTION:
URL:https://arconnecteducation.co.uk/event/130pm-80/
LOCATION:AR Connect Education Assessment Centre\, 37 Canal St\, Stockport\, England\, SK1 3BZ\, United Kingdom
END:VEVENT
BEGIN:VEVENT
DTSTART;TZID=UTC:20241115T133000
DTEND;TZID=UTC:20241115T163000
DTSTAMP:20260423T063250
CREATED:20240904T110429Z
LAST-MODIFIED:20241002T083723Z
UID:10000216-1731677400-1731688200@arconnecteducation.co.uk
SUMMARY:1:30pm
DESCRIPTION:
URL:https://arconnecteducation.co.uk/event/130pm-88/
LOCATION:AR Connect Education Assessment Centre\, 37 Canal St\, Stockport\, England\, SK1 3BZ\, United Kingdom
END:VEVENT
BEGIN:VEVENT
DTSTART;TZID=UTC:20241118T133000
DTEND;TZID=UTC:20241118T163000
DTSTAMP:20260423T063250
CREATED:20240904T110512Z
LAST-MODIFIED:20241107T093221Z
UID:10000217-1731936600-1731947400@arconnecteducation.co.uk
SUMMARY:1:30pm
DESCRIPTION:
URL:https://arconnecteducation.co.uk/event/130pm-89/
LOCATION:AR Connect Education Assessment Centre\, 37 Canal St\, Stockport\, England\, SK1 3BZ\, United Kingdom
END:VEVENT
BEGIN:VEVENT
DTSTART;TZID=UTC:20241119T133000
DTEND;TZID=UTC:20241119T163000
DTSTAMP:20260423T063250
CREATED:20240904T110555Z
LAST-MODIFIED:20241002T083927Z
UID:10000218-1732023000-1732033800@arconnecteducation.co.uk
SUMMARY:1:30pm
DESCRIPTION:
URL:https://arconnecteducation.co.uk/event/130pm-90/
LOCATION:AR Connect Education Assessment Centre\, 37 Canal St\, Stockport\, England\, SK1 3BZ\, United Kingdom
END:VEVENT
BEGIN:VEVENT
DTSTART;TZID=UTC:20241120T100000
DTEND;TZID=UTC:20241120T130000
DTSTAMP:20260423T063250
CREATED:20240904T092826Z
LAST-MODIFIED:20241002T091146Z
UID:10000181-1732096800-1732107600@arconnecteducation.co.uk
SUMMARY:10:00am
DESCRIPTION:
URL:https://arconnecteducation.co.uk/event/1000am-85/
LOCATION:AR Connect Education Assessment Centre\, 37 Canal St\, Stockport\, England\, SK1 3BZ\, United Kingdom
END:VEVENT
BEGIN:VEVENT
DTSTART;TZID=UTC:20241120T133000
DTEND;TZID=UTC:20241120T163000
DTSTAMP:20260423T063250
CREATED:20240904T115837Z
LAST-MODIFIED:20241002T091302Z
UID:10000265-1732109400-1732120200@arconnecteducation.co.uk
SUMMARY:1:30pm
DESCRIPTION:
URL:https://arconnecteducation.co.uk/event/130pm-114/
LOCATION:AR Connect Education Assessment Centre\, 37 Canal St\, Stockport\, England\, SK1 3BZ\, United Kingdom
END:VEVENT
BEGIN:VEVENT
DTSTART;TZID=UTC:20241126T140000
DTEND;TZID=UTC:20241126T170000
DTSTAMP:20260423T063250
CREATED:20240904T111027Z
LAST-MODIFIED:20241121T155306Z
UID:10000223-1732629600-1732640400@arconnecteducation.co.uk
SUMMARY:2:00pm
DESCRIPTION:
URL:https://arconnecteducation.co.uk/event/130pm-95/
LOCATION:AR Connect Education Assessment Centre\, 37 Canal St\, Stockport\, England\, SK1 3BZ\, United Kingdom
END:VEVENT
BEGIN:VEVENT
DTSTART;TZID=UTC:20241127T143000
DTEND;TZID=UTC:20241127T173000
DTSTAMP:20260423T063250
CREATED:20240904T111121Z
LAST-MODIFIED:20241121T154905Z
UID:10000224-1732717800-1732728600@arconnecteducation.co.uk
SUMMARY:2:30pm
DESCRIPTION:
URL:https://arconnecteducation.co.uk/event/130pm-96/
LOCATION:AR Connect Education Assessment Centre\, 37 Canal St\, Stockport\, England\, SK1 3BZ\, United Kingdom
END:VEVENT
BEGIN:VEVENT
DTSTART;TZID=UTC:20241128T133000
DTEND;TZID=UTC:20241128T163000
DTSTAMP:20260423T063250
CREATED:20240904T111215Z
LAST-MODIFIED:20241002T092753Z
UID:10000225-1732800600-1732811400@arconnecteducation.co.uk
SUMMARY:1:30pm
DESCRIPTION:
URL:https://arconnecteducation.co.uk/event/130pm-97/
LOCATION:AR Connect Education Assessment Centre\, 37 Canal St\, Stockport\, England\, SK1 3BZ\, United Kingdom
END:VEVENT
BEGIN:VEVENT
DTSTART;TZID=UTC:20241129T100000
DTEND;TZID=UTC:20241129T130000
DTSTAMP:20260423T063250
CREATED:20240904T093719Z
LAST-MODIFIED:20241002T092839Z
UID:10000188-1732874400-1732885200@arconnecteducation.co.uk
SUMMARY:10:00am
DESCRIPTION:
URL:https://arconnecteducation.co.uk/event/1000am-92/
LOCATION:AR Connect Education Assessment Centre\, 37 Canal St\, Stockport\, England\, SK1 3BZ\, United Kingdom
END:VEVENT
BEGIN:VEVENT
DTSTART;TZID=UTC:20241129T133000
DTEND;TZID=UTC:20241129T163000
DTSTAMP:20260423T063250
CREATED:20240904T111300Z
LAST-MODIFIED:20241002T092911Z
UID:10000226-1732887000-1732897800@arconnecteducation.co.uk
SUMMARY:1:30pm
DESCRIPTION:
URL:https://arconnecteducation.co.uk/event/130pm-98/
LOCATION:AR Connect Education Assessment Centre\, 37 Canal St\, Stockport\, England\, SK1 3BZ\, United Kingdom
END:VEVENT
END:VCALENDAR