BEGIN:VCALENDAR
VERSION:2.0
PRODID:-//AR Connect Education Ltd - ECPv6.3.3.1//NONSGML v1.0//EN
CALSCALE:GREGORIAN
METHOD:PUBLISH
X-WR-CALNAME:AR Connect Education Ltd
X-ORIGINAL-URL:https://arconnecteducation.co.uk
X-WR-CALDESC:Events for AR Connect Education Ltd
REFRESH-INTERVAL;VALUE=DURATION:PT1H
X-Robots-Tag:noindex
X-PUBLISHED-TTL:PT1H
BEGIN:VTIMEZONE
TZID:UTC
BEGIN:STANDARD
TZOFFSETFROM:+0000
TZOFFSETTO:+0000
TZNAME:UTC
DTSTART:20240101T000000
END:STANDARD
END:VTIMEZONE
BEGIN:VEVENT
DTSTART;TZID=UTC:20241202T133000
DTEND;TZID=UTC:20241202T163000
DTSTAMP:20260423T050750
CREATED:20240904T111442Z
LAST-MODIFIED:20241002T093903Z
UID:10000227-1733146200-1733157000@arconnecteducation.co.uk
SUMMARY:1:30pm
DESCRIPTION:
URL:https://arconnecteducation.co.uk/event/130pm-99/
LOCATION:AR Connect Education Assessment Centre\, 37 Canal St\, Stockport\, England\, SK1 3BZ\, United Kingdom
END:VEVENT
BEGIN:VEVENT
DTSTART;TZID=UTC:20241203T133000
DTEND;TZID=UTC:20241203T163000
DTSTAMP:20260423T050750
CREATED:20240904T111614Z
LAST-MODIFIED:20241002T095956Z
UID:10000228-1733232600-1733243400@arconnecteducation.co.uk
SUMMARY:1:30pm
DESCRIPTION:
URL:https://arconnecteducation.co.uk/event/130pm-100/
LOCATION:AR Connect Education Assessment Centre\, 37 Canal St\, Stockport\, England\, SK1 3BZ\, United Kingdom
END:VEVENT
BEGIN:VEVENT
DTSTART;TZID=UTC:20241209T133000
DTEND;TZID=UTC:20241209T163000
DTSTAMP:20260423T050750
CREATED:20240904T112752Z
LAST-MODIFIED:20241002T101607Z
UID:10000234-1733751000-1733761800@arconnecteducation.co.uk
SUMMARY:1:30pm
DESCRIPTION:
URL:https://arconnecteducation.co.uk/event/130pm-104/
LOCATION:AR Connect Education Assessment Centre\, 37 Canal St\, Stockport\, England\, SK1 3BZ\, United Kingdom
END:VEVENT
BEGIN:VEVENT
DTSTART;TZID=UTC:20241210T133000
DTEND;TZID=UTC:20241210T163000
DTSTAMP:20260423T050750
CREATED:20240904T112856Z
LAST-MODIFIED:20241002T101714Z
UID:10000235-1733837400-1733848200@arconnecteducation.co.uk
SUMMARY:1:30pm
DESCRIPTION:
URL:https://arconnecteducation.co.uk/event/130pm-105/
LOCATION:AR Connect Education Assessment Centre\, 37 Canal St\, Stockport\, England\, SK1 3BZ\, United Kingdom
END:VEVENT
BEGIN:VEVENT
DTSTART;TZID=UTC:20241212T133000
DTEND;TZID=UTC:20241212T163000
DTSTAMP:20260423T050750
CREATED:20240904T113131Z
LAST-MODIFIED:20241002T104649Z
UID:10000237-1734010200-1734021000@arconnecteducation.co.uk
SUMMARY:1:30pm
DESCRIPTION:
URL:https://arconnecteducation.co.uk/event/130pm-107/
LOCATION:AR Connect Education Assessment Centre\, 37 Canal St\, Stockport\, England\, SK1 3BZ\, United Kingdom
END:VEVENT
BEGIN:VEVENT
DTSTART;TZID=UTC:20241217T100000
DTEND;TZID=UTC:20241217T130000
DTSTAMP:20260423T050750
CREATED:20240904T114819Z
LAST-MODIFIED:20241002T105139Z
UID:10000256-1734429600-1734440400@arconnecteducation.co.uk
SUMMARY:10:00am
DESCRIPTION:
URL:https://arconnecteducation.co.uk/event/1000am-104/
LOCATION:AR Connect Education Assessment Centre\, 37 Canal St\, Stockport\, England\, SK1 3BZ\, United Kingdom
END:VEVENT
BEGIN:VEVENT
DTSTART;TZID=UTC:20241217T133000
DTEND;TZID=UTC:20241217T163000
DTSTAMP:20260423T050750
CREATED:20240904T113737Z
LAST-MODIFIED:20241002T105211Z
UID:10000240-1734442200-1734453000@arconnecteducation.co.uk
SUMMARY:1:30pm
DESCRIPTION:
URL:https://arconnecteducation.co.uk/event/130pm-110/
LOCATION:AR Connect Education Assessment Centre\, 37 Canal St\, Stockport\, England\, SK1 3BZ\, United Kingdom
END:VEVENT
BEGIN:VEVENT
DTSTART;TZID=UTC:20241220T133000
DTEND;TZID=UTC:20241220T163000
DTSTAMP:20260423T050750
CREATED:20240904T113932Z
LAST-MODIFIED:20241217T145004Z
UID:10000243-1734701400-1734712200@arconnecteducation.co.uk
SUMMARY:1:30pm
DESCRIPTION:
URL:https://arconnecteducation.co.uk/event/130pm-113/
LOCATION:AR Connect Education Assessment Centre\, 37 Canal St\, Stockport\, England\, SK1 3BZ\, United Kingdom
END:VEVENT
END:VCALENDAR