BEGIN:VCALENDAR
VERSION:2.0
PRODID:-//AR Connect Education Ltd - ECPv6.3.3.1//NONSGML v1.0//EN
CALSCALE:GREGORIAN
METHOD:PUBLISH
X-WR-CALNAME:AR Connect Education Ltd
X-ORIGINAL-URL:https://arconnecteducation.co.uk
X-WR-CALDESC:Events for AR Connect Education Ltd
REFRESH-INTERVAL;VALUE=DURATION:PT1H
X-Robots-Tag:noindex
X-PUBLISHED-TTL:PT1H
BEGIN:VTIMEZONE
TZID:UTC
BEGIN:STANDARD
TZOFFSETFROM:+0000
TZOFFSETTO:+0000
TZNAME:UTC
DTSTART:20250101T000000
END:STANDARD
END:VTIMEZONE
BEGIN:VEVENT
DTSTART;TZID=UTC:20250110T133000
DTEND;TZID=UTC:20250110T163000
DTSTAMP:20260423T032733
CREATED:20241115T150011Z
LAST-MODIFIED:20241115T150011Z
UID:10000287-1736515800-1736526600@arconnecteducation.co.uk
SUMMARY:1:30pm
DESCRIPTION:
URL:https://arconnecteducation.co.uk/event/130pm-118/
LOCATION:AR Connect Education Assessment Centre\, 37 Canal St\, Stockport\, England\, SK1 3BZ\, United Kingdom
END:VEVENT
BEGIN:VEVENT
DTSTART;TZID=UTC:20250116T100000
DTEND;TZID=UTC:20250116T130000
DTSTAMP:20260423T032733
CREATED:20241115T142038Z
LAST-MODIFIED:20241115T144012Z
UID:10000272-1737021600-1737032400@arconnecteducation.co.uk
SUMMARY:10:00am
DESCRIPTION:
URL:https://arconnecteducation.co.uk/event/1000am-119/
LOCATION:AR Connect Education Assessment Centre\, 37 Canal St\, Stockport\, England\, SK1 3BZ\, United Kingdom
END:VEVENT
BEGIN:VEVENT
DTSTART;TZID=UTC:20250116T133000
DTEND;TZID=UTC:20250116T163000
DTSTAMP:20260423T032733
CREATED:20241115T150327Z
LAST-MODIFIED:20241115T150327Z
UID:10000291-1737034200-1737045000@arconnecteducation.co.uk
SUMMARY:1:30pm
DESCRIPTION:
URL:https://arconnecteducation.co.uk/event/130pm-122/
LOCATION:AR Connect Education Assessment Centre\, 37 Canal St\, Stockport\, England\, SK1 3BZ\, United Kingdom
END:VEVENT
BEGIN:VEVENT
DTSTART;TZID=UTC:20250117T100000
DTEND;TZID=UTC:20250117T130000
DTSTAMP:20260423T032733
CREATED:20241115T142101Z
LAST-MODIFIED:20241115T144104Z
UID:10000273-1737108000-1737118800@arconnecteducation.co.uk
SUMMARY:10:00am
DESCRIPTION:
URL:https://arconnecteducation.co.uk/event/1000am-120/
LOCATION:AR Connect Education Assessment Centre\, 37 Canal St\, Stockport\, England\, SK1 3BZ\, United Kingdom
END:VEVENT
BEGIN:VEVENT
DTSTART;TZID=UTC:20250117T133000
DTEND;TZID=UTC:20250117T163000
DTSTAMP:20260423T032733
CREATED:20241115T150422Z
LAST-MODIFIED:20241115T150422Z
UID:10000292-1737120600-1737131400@arconnecteducation.co.uk
SUMMARY:1:30pm
DESCRIPTION:
URL:https://arconnecteducation.co.uk/event/130pm-123/
LOCATION:AR Connect Education Assessment Centre\, 37 Canal St\, Stockport\, England\, SK1 3BZ\, United Kingdom
END:VEVENT
BEGIN:VEVENT
DTSTART;TZID=UTC:20250120T133000
DTEND;TZID=UTC:20250120T163000
DTSTAMP:20260423T032733
CREATED:20241115T150517Z
LAST-MODIFIED:20241115T150517Z
UID:10000293-1737379800-1737390600@arconnecteducation.co.uk
SUMMARY:1:30pm
DESCRIPTION:
URL:https://arconnecteducation.co.uk/event/130pm-124/
LOCATION:AR Connect Education Assessment Centre\, 37 Canal St\, Stockport\, England\, SK1 3BZ\, United Kingdom
END:VEVENT
BEGIN:VEVENT
DTSTART;TZID=UTC:20250121T100000
DTEND;TZID=UTC:20250121T130000
DTSTAMP:20260423T032733
CREATED:20241115T144338Z
LAST-MODIFIED:20241115T144338Z
UID:10000275-1737453600-1737464400@arconnecteducation.co.uk
SUMMARY:10:00am
DESCRIPTION:
URL:https://arconnecteducation.co.uk/event/1000am-122/
LOCATION:AR Connect Education Assessment Centre\, 37 Canal St\, Stockport\, England\, SK1 3BZ\, United Kingdom
END:VEVENT
BEGIN:VEVENT
DTSTART;TZID=UTC:20250121T133000
DTEND;TZID=UTC:20250121T163000
DTSTAMP:20260423T032733
CREATED:20241115T150612Z
LAST-MODIFIED:20241115T150612Z
UID:10000294-1737466200-1737477000@arconnecteducation.co.uk
SUMMARY:1:30pm
DESCRIPTION:
URL:https://arconnecteducation.co.uk/event/130pm-125/
LOCATION:AR Connect Education Assessment Centre\, 37 Canal St\, Stockport\, England\, SK1 3BZ\, United Kingdom
END:VEVENT
BEGIN:VEVENT
DTSTART;TZID=UTC:20250123T133000
DTEND;TZID=UTC:20250123T163000
DTSTAMP:20260423T032733
CREATED:20241115T150807Z
LAST-MODIFIED:20241115T150807Z
UID:10000296-1737639000-1737649800@arconnecteducation.co.uk
SUMMARY:1:30pm
DESCRIPTION:
URL:https://arconnecteducation.co.uk/event/130pm-127/
LOCATION:AR Connect Education Assessment Centre\, 37 Canal St\, Stockport\, England\, SK1 3BZ\, United Kingdom
END:VEVENT
BEGIN:VEVENT
DTSTART;TZID=UTC:20250124T100000
DTEND;TZID=UTC:20250124T130000
DTSTAMP:20260423T032733
CREATED:20241115T144637Z
LAST-MODIFIED:20241115T144637Z
UID:10000278-1737712800-1737723600@arconnecteducation.co.uk
SUMMARY:10:00am
DESCRIPTION:
URL:https://arconnecteducation.co.uk/event/1000am-125/
LOCATION:AR Connect Education Assessment Centre\, 37 Canal St\, Stockport\, England\, SK1 3BZ\, United Kingdom
END:VEVENT
BEGIN:VEVENT
DTSTART;TZID=UTC:20250124T133000
DTEND;TZID=UTC:20250124T163000
DTSTAMP:20260423T032733
CREATED:20241115T150900Z
LAST-MODIFIED:20241115T150900Z
UID:10000297-1737725400-1737736200@arconnecteducation.co.uk
SUMMARY:1:30pm
DESCRIPTION:
URL:https://arconnecteducation.co.uk/event/130pm-128/
LOCATION:AR Connect Education Assessment Centre\, 37 Canal St\, Stockport\, England\, SK1 3BZ\, United Kingdom
END:VEVENT
BEGIN:VEVENT
DTSTART;TZID=UTC:20250127T100000
DTEND;TZID=UTC:20250127T130000
DTSTAMP:20260423T032733
CREATED:20241115T145049Z
LAST-MODIFIED:20241115T145049Z
UID:10000279-1737972000-1737982800@arconnecteducation.co.uk
SUMMARY:10:00am
DESCRIPTION:
URL:https://arconnecteducation.co.uk/event/1000am-126/
LOCATION:AR Connect Education Assessment Centre\, 37 Canal St\, Stockport\, England\, SK1 3BZ\, United Kingdom
END:VEVENT
BEGIN:VEVENT
DTSTART;TZID=UTC:20250127T133000
DTEND;TZID=UTC:20250127T163000
DTSTAMP:20260423T032733
CREATED:20241115T150956Z
LAST-MODIFIED:20241115T150956Z
UID:10000298-1737984600-1737995400@arconnecteducation.co.uk
SUMMARY:1:30pm
DESCRIPTION:
URL:https://arconnecteducation.co.uk/event/130pm-129/
LOCATION:AR Connect Education Assessment Centre\, 37 Canal St\, Stockport\, England\, SK1 3BZ\, United Kingdom
END:VEVENT
BEGIN:VEVENT
DTSTART;TZID=UTC:20250128T100000
DTEND;TZID=UTC:20250128T130000
DTSTAMP:20260423T032733
CREATED:20241115T145155Z
LAST-MODIFIED:20241115T145155Z
UID:10000280-1738058400-1738069200@arconnecteducation.co.uk
SUMMARY:10:00am
DESCRIPTION:
URL:https://arconnecteducation.co.uk/event/1000am-127/
LOCATION:AR Connect Education Assessment Centre\, 37 Canal St\, Stockport\, England\, SK1 3BZ\, United Kingdom
END:VEVENT
BEGIN:VEVENT
DTSTART;TZID=UTC:20250128T133000
DTEND;TZID=UTC:20250128T163000
DTSTAMP:20260423T032733
CREATED:20241115T151043Z
LAST-MODIFIED:20241115T151043Z
UID:10000299-1738071000-1738081800@arconnecteducation.co.uk
SUMMARY:1:30pm
DESCRIPTION:
URL:https://arconnecteducation.co.uk/event/130pm-130/
LOCATION:AR Connect Education Assessment Centre\, 37 Canal St\, Stockport\, England\, SK1 3BZ\, United Kingdom
END:VEVENT
BEGIN:VEVENT
DTSTART;TZID=UTC:20250129T133000
DTEND;TZID=UTC:20250129T163000
DTSTAMP:20260423T032733
CREATED:20241115T151128Z
LAST-MODIFIED:20241115T151128Z
UID:10000300-1738157400-1738168200@arconnecteducation.co.uk
SUMMARY:1:30pm
DESCRIPTION:
URL:https://arconnecteducation.co.uk/event/130pm-131/
LOCATION:AR Connect Education Assessment Centre\, 37 Canal St\, Stockport\, England\, SK1 3BZ\, United Kingdom
END:VEVENT
BEGIN:VEVENT
DTSTART;TZID=UTC:20250130T100000
DTEND;TZID=UTC:20250130T130000
DTSTAMP:20260423T032733
CREATED:20241115T145400Z
LAST-MODIFIED:20241115T145400Z
UID:10000282-1738231200-1738242000@arconnecteducation.co.uk
SUMMARY:10:00am
DESCRIPTION:
URL:https://arconnecteducation.co.uk/event/1000am-129/
LOCATION:AR Connect Education Assessment Centre\, 37 Canal St\, Stockport\, England\, SK1 3BZ\, United Kingdom
END:VEVENT
BEGIN:VEVENT
DTSTART;TZID=UTC:20250130T133000
DTEND;TZID=UTC:20250130T163000
DTSTAMP:20260423T032733
CREATED:20241115T151217Z
LAST-MODIFIED:20241115T151217Z
UID:10000301-1738243800-1738254600@arconnecteducation.co.uk
SUMMARY:1:30pm
DESCRIPTION:
URL:https://arconnecteducation.co.uk/event/130pm-132/
LOCATION:AR Connect Education Assessment Centre\, 37 Canal St\, Stockport\, England\, SK1 3BZ\, United Kingdom
END:VEVENT
BEGIN:VEVENT
DTSTART;TZID=UTC:20250131T100000
DTEND;TZID=UTC:20250131T130000
DTSTAMP:20260423T032733
CREATED:20241115T145454Z
LAST-MODIFIED:20241115T145454Z
UID:10000283-1738317600-1738328400@arconnecteducation.co.uk
SUMMARY:10:00am
DESCRIPTION:
URL:https://arconnecteducation.co.uk/event/1000am-130/
LOCATION:AR Connect Education Assessment Centre\, 37 Canal St\, Stockport\, England\, SK1 3BZ\, United Kingdom
END:VEVENT
BEGIN:VEVENT
DTSTART;TZID=UTC:20250131T133000
DTEND;TZID=UTC:20250131T163000
DTSTAMP:20260423T032733
CREATED:20241115T151320Z
LAST-MODIFIED:20241115T151320Z
UID:10000302-1738330200-1738341000@arconnecteducation.co.uk
SUMMARY:1:30pm
DESCRIPTION:
URL:https://arconnecteducation.co.uk/event/130pm-133/
LOCATION:AR Connect Education Assessment Centre\, 37 Canal St\, Stockport\, England\, SK1 3BZ\, United Kingdom
END:VEVENT
END:VCALENDAR